BEGIN:VCALENDAR
VERSION:2.0
PRODID:-//Best CBSE School in Bengaluru | New Cambridge International Public School - ECPv6.15.20//NONSGML v1.0//EN
CALSCALE:GREGORIAN
METHOD:PUBLISH
X-WR-CALNAME:Best CBSE School in Bengaluru | New Cambridge International Public School
X-ORIGINAL-URL:https://ncips.in
X-WR-CALDESC:Events for Best CBSE School in Bengaluru | New Cambridge International Public School
REFRESH-INTERVAL;VALUE=DURATION:PT1H
X-Robots-Tag:noindex
X-PUBLISHED-TTL:PT1H
BEGIN:VTIMEZONE
TZID:UTC
BEGIN:STANDARD
TZOFFSETFROM:+0000
TZOFFSETTO:+0000
TZNAME:UTC
DTSTART:20230101T000000
END:STANDARD
END:VTIMEZONE
BEGIN:VEVENT
DTSTART;VALUE=DATE:20240803
DTEND;VALUE=DATE:20240804
DTSTAMP:20260419T203540
CREATED:20240301T101520Z
LAST-MODIFIED:20240301T101520Z
UID:877-1722643200-1722729599@ncips.in
SUMMARY:PTM Grade 1 to 9
DESCRIPTION:
URL:https://ncips.in/event/ptm-grade-1-to-9/
LOCATION:karnataka
CATEGORIES:Academic Calender
END:VEVENT
END:VCALENDAR