BEGIN:VCALENDAR
VERSION:2.0
PRODID:-//Best CBSE School in Bengaluru | New Cambridge International Public School - ECPv6.15.20//NONSGML v1.0//EN
CALSCALE:GREGORIAN
METHOD:PUBLISH
X-ORIGINAL-URL:https://ncips.in
X-WR-CALDESC:Events for Best CBSE School in Bengaluru | New Cambridge International Public School
REFRESH-INTERVAL;VALUE=DURATION:PT1H
X-Robots-Tag:noindex
X-PUBLISHED-TTL:PT1H
BEGIN:VTIMEZONE
TZID:UTC
BEGIN:STANDARD
TZOFFSETFROM:+0000
TZOFFSETTO:+0000
TZNAME:UTC
DTSTART:20230101T000000
END:STANDARD
END:VTIMEZONE
BEGIN:VEVENT
DTSTART;VALUE=DATE:20240815
DTEND;VALUE=DATE:20240816
DTSTAMP:20260419T202723
CREATED:20240301T101729Z
LAST-MODIFIED:20240301T101729Z
UID:881-1723680000-1723766399@ncips.in
SUMMARY:CCA 2 for Grade Pre Primary & Primary  Fancy dress competition
DESCRIPTION:
URL:https://ncips.in/event/cca-2-for-grade-pre-primary-primary-fancy-dress-competition/
LOCATION:karnataka
CATEGORIES:Academic Calender
END:VEVENT
END:VCALENDAR