BEGIN:VCALENDAR
VERSION:2.0
PRODID:-//Best CBSE School in Bengaluru | New Cambridge International Public School - ECPv6.15.20//NONSGML v1.0//EN
CALSCALE:GREGORIAN
METHOD:PUBLISH
X-ORIGINAL-URL:https://ncips.in
X-WR-CALDESC:Events for Best CBSE School in Bengaluru | New Cambridge International Public School
REFRESH-INTERVAL;VALUE=DURATION:PT1H
X-Robots-Tag:noindex
X-PUBLISHED-TTL:PT1H
BEGIN:VTIMEZONE
TZID:UTC
BEGIN:STANDARD
TZOFFSETFROM:+0000
TZOFFSETTO:+0000
TZNAME:UTC
DTSTART:20230101T000000
END:STANDARD
END:VTIMEZONE
BEGIN:VEVENT
DTSTART;VALUE=DATE:20240515
DTEND;VALUE=DATE:20240516
DTSTAMP:20260419T225159
CREATED:20240301T092521Z
LAST-MODIFIED:20240301T094633Z
UID:835-1715731200-1715817599@ncips.in
SUMMARY:Grade 9 and 10 Re-opening
DESCRIPTION:
URL:https://ncips.in/event/grade-9-and-10-re-opening/
LOCATION:karnataka
END:VEVENT
BEGIN:VEVENT
DTSTART;VALUE=DATE:20240520
DTEND;VALUE=DATE:20240521
DTSTAMP:20260419T225159
CREATED:20240301T092719Z
LAST-MODIFIED:20240301T112002Z
UID:838-1716163200-1716249599@ncips.in
SUMMARY:School Re-Opening for  LKG & UKG to 8
DESCRIPTION:
URL:https://ncips.in/event/school-re-opening-for-lkg-ukg-to-8/
LOCATION:karnataka
CATEGORIES:Academic Calender
END:VEVENT
BEGIN:VEVENT
DTSTART;VALUE=DATE:20240525
DTEND;VALUE=DATE:20240526
DTSTAMP:20260419T225159
CREATED:20240301T112155Z
LAST-MODIFIED:20240301T112155Z
UID:942-1716595200-1716681599@ncips.in
SUMMARY:No bag day and club Activity and Parents Orientation Program Grades 6 to 8
DESCRIPTION:
URL:https://ncips.in/event/no-bag-day-and-club-activity-and-parents-orientation-program-grades-6-to-8/
LOCATION:karnataka
CATEGORIES:Academic Calender
END:VEVENT
END:VCALENDAR