BEGIN:VCALENDAR
VERSION:2.0
PRODID:-//Best CBSE School in Bengaluru | New Cambridge International Public School - ECPv6.15.20//NONSGML v1.0//EN
CALSCALE:GREGORIAN
METHOD:PUBLISH
X-WR-CALNAME:Best CBSE School in Bengaluru | New Cambridge International Public School
X-ORIGINAL-URL:https://ncips.in
X-WR-CALDESC:Events for Best CBSE School in Bengaluru | New Cambridge International Public School
REFRESH-INTERVAL;VALUE=DURATION:PT1H
X-Robots-Tag:noindex
X-PUBLISHED-TTL:PT1H
BEGIN:VTIMEZONE
TZID:UTC
BEGIN:STANDARD
TZOFFSETFROM:+0000
TZOFFSETTO:+0000
TZNAME:UTC
DTSTART:20230101T000000
END:STANDARD
END:VTIMEZONE
BEGIN:VEVENT
DTSTART;VALUE=DATE:20240601
DTEND;VALUE=DATE:20240602
DTSTAMP:20260419T213806
CREATED:20240301T093649Z
LAST-MODIFIED:20240301T094531Z
UID:831-1717200000-1717286399@ncips.in
SUMMARY:CCA 1 Grade 1 to 10   Parents Orientation Program for Pre Primary (9.30 to 10.30 )   Parents Orientation Program Grade 1 to 5 (11.00 to 12.00)
DESCRIPTION:
URL:https://ncips.in/event/cca-1-grade-1-to-10-parents-orientation-program-for-pre-primary-9-30-to-10-30-parents-orientation-program-grade-1-to-5-11-00-to-12-00/
LOCATION:karnataka
CATEGORIES:Academic Calender
END:VEVENT
BEGIN:VEVENT
DTSTART;TZID=UTC:20240603T080000
DTEND;TZID=UTC:20240603T170000
DTSTAMP:20260419T213806
CREATED:20240301T093805Z
LAST-MODIFIED:20240301T094507Z
UID:841-1717401600-1717434000@ncips.in
SUMMARY:Reopening for Nursery
DESCRIPTION:
URL:https://ncips.in/event/reopening-for-nursery/
LOCATION:karnataka
CATEGORIES:Academic Calender
END:VEVENT
BEGIN:VEVENT
DTSTART;VALUE=DATE:20240605
DTEND;VALUE=DATE:20240606
DTSTAMP:20260419T213806
CREATED:20240301T094121Z
LAST-MODIFIED:20240301T094445Z
UID:844-1717545600-1717631999@ncips.in
SUMMARY:World Environment Day
DESCRIPTION:
URL:https://ncips.in/event/world-environment-day/
LOCATION:karnataka
CATEGORIES:Academic Calender
END:VEVENT
BEGIN:VEVENT
DTSTART;VALUE=DATE:20240610
DTEND;VALUE=DATE:20240611
DTSTAMP:20260419T213806
CREATED:20240301T094414Z
LAST-MODIFIED:20240301T094414Z
UID:846-1717977600-1718063999@ncips.in
SUMMARY:Monthly Test 1 for grade 1 & 2
DESCRIPTION:
URL:https://ncips.in/event/monthly-test-1-for-grade-1-2/
LOCATION:karnataka
END:VEVENT
BEGIN:VEVENT
DTSTART;VALUE=DATE:20240614
DTEND;VALUE=DATE:20240615
DTSTAMP:20260419T213806
CREATED:20240301T095009Z
LAST-MODIFIED:20240301T095009Z
UID:850-1718323200-1718409599@ncips.in
SUMMARY:Election
DESCRIPTION:
URL:https://ncips.in/event/election/
LOCATION:karnataka
CATEGORIES:Academic Calender
END:VEVENT
BEGIN:VEVENT
DTSTART;VALUE=DATE:20240621
DTEND;VALUE=DATE:20240622
DTSTAMP:20260419T213806
CREATED:20240301T095101Z
LAST-MODIFIED:20240301T095101Z
UID:852-1718928000-1719014399@ncips.in
SUMMARY:World Yoga Day & Music Day
DESCRIPTION:
URL:https://ncips.in/event/world-yoga-day-music-day/
LOCATION:karnataka
CATEGORIES:Academic Calender
END:VEVENT
BEGIN:VEVENT
DTSTART;VALUE=DATE:20240622
DTEND;VALUE=DATE:20240623
DTSTAMP:20260419T213806
CREATED:20240301T095329Z
LAST-MODIFIED:20240301T095329Z
UID:855-1719014400-1719100799@ncips.in
SUMMARY:Investiture Ceremony \, No bag day & Club Activity
DESCRIPTION:
URL:https://ncips.in/event/investiture-ceremony-no-bag-day-club-activity/
LOCATION:karnataka
END:VEVENT
BEGIN:VEVENT
DTSTART;VALUE=DATE:20240628
DTEND;VALUE=DATE:20240629
DTSTAMP:20260419T213806
CREATED:20240301T095456Z
LAST-MODIFIED:20240301T095456Z
UID:857-1719532800-1719619199@ncips.in
SUMMARY:Red Day
DESCRIPTION:
URL:https://ncips.in/event/red-day/
LOCATION:karnataka
END:VEVENT
BEGIN:VEVENT
DTSTART;VALUE=DATE:20240629
DTEND;VALUE=DATE:20240630
DTSTAMP:20260419T213806
CREATED:20240301T095605Z
LAST-MODIFIED:20240301T095605Z
UID:859-1719619200-1719705599@ncips.in
SUMMARY:POP by Counselor Grade1 to 5
DESCRIPTION:
URL:https://ncips.in/event/pop-by-counselor-grade1-to-5/
LOCATION:karnataka
CATEGORIES:Academic Calender
END:VEVENT
END:VCALENDAR