BEGIN:VCALENDAR
VERSION:2.0
PRODID:-//Best CBSE School in Bengaluru | New Cambridge International Public School - ECPv6.15.20//NONSGML v1.0//EN
CALSCALE:GREGORIAN
METHOD:PUBLISH
X-ORIGINAL-URL:https://ncips.in
X-WR-CALDESC:Events for Best CBSE School in Bengaluru | New Cambridge International Public School
REFRESH-INTERVAL;VALUE=DURATION:PT1H
X-Robots-Tag:noindex
X-PUBLISHED-TTL:PT1H
BEGIN:VTIMEZONE
TZID:UTC
BEGIN:STANDARD
TZOFFSETFROM:+0000
TZOFFSETTO:+0000
TZNAME:UTC
DTSTART:20230101T000000
END:STANDARD
END:VTIMEZONE
BEGIN:VEVENT
DTSTART;VALUE=DATE:20240706
DTEND;VALUE=DATE:20240707
DTSTAMP:20260419T201817
CREATED:20240301T095814Z
LAST-MODIFIED:20240301T095814Z
UID:864-1720224000-1720310399@ncips.in
SUMMARY:CCA-2 Grade 4 to 9  Pre- primary My First Step to School
DESCRIPTION:
URL:https://ncips.in/event/cca-2-grade-4-to-9-pre-primary-my-first-step-to-school/
LOCATION:karnataka
CATEGORIES:Academic Calender
END:VEVENT
BEGIN:VEVENT
DTSTART;VALUE=DATE:20240708
DTEND;VALUE=DATE:20240709
DTSTAMP:20260419T201817
CREATED:20240301T095943Z
LAST-MODIFIED:20240301T095943Z
UID:866-1720396800-1720483199@ncips.in
SUMMARY:Monthly Test 2 Grade 1 and 2
DESCRIPTION:
URL:https://ncips.in/event/monthly-test-2-grade-1-and-2/
LOCATION:karnataka
CATEGORIES:Academic Calender
END:VEVENT
BEGIN:VEVENT
DTSTART;VALUE=DATE:20240715
DTEND;VALUE=DATE:20240716
DTSTAMP:20260419T201817
CREATED:20240301T100036Z
LAST-MODIFIED:20240301T100036Z
UID:868-1721001600-1721087999@ncips.in
SUMMARY:French Day
DESCRIPTION:
URL:https://ncips.in/event/french-day/
LOCATION:karnataka
CATEGORIES:Academic Calender
END:VEVENT
BEGIN:VEVENT
DTSTART;TZID=UTC:20240716T080000
DTEND;TZID=UTC:20240716T170000
DTSTAMP:20260419T201817
CREATED:20240301T100751Z
LAST-MODIFIED:20240301T100751Z
UID:870-1721116800-1721149200@ncips.in
SUMMARY:Periodical Test 1  Grade 3 to 9
DESCRIPTION:
URL:https://ncips.in/event/periodical-test-1-grade-3-to-9/
LOCATION:karnataka
CATEGORIES:Academic Calender
END:VEVENT
BEGIN:VEVENT
DTSTART;VALUE=DATE:20240726
DTEND;VALUE=DATE:20240727
DTSTAMP:20260419T201817
CREATED:20240301T101321Z
LAST-MODIFIED:20240301T101321Z
UID:873-1721952000-1722038399@ncips.in
SUMMARY:Blue Day
DESCRIPTION:
URL:https://ncips.in/event/blue-day/
LOCATION:karnataka
CATEGORIES:Academic Calender
END:VEVENT
BEGIN:VEVENT
DTSTART;VALUE=DATE:20240727
DTEND;VALUE=DATE:20240728
DTSTAMP:20260419T201817
CREATED:20240301T101419Z
LAST-MODIFIED:20240301T112525Z
UID:875-1722038400-1722124799@ncips.in
SUMMARY:No bag day &  Club Activity
DESCRIPTION:
URL:https://ncips.in/event/no-bag-day-club-activity/
LOCATION:karnataka
CATEGORIES:Academic Calender
END:VEVENT
END:VCALENDAR