BEGIN:VCALENDAR
VERSION:2.0
PRODID:-//Best CBSE School in Bengaluru | New Cambridge International Public School - ECPv6.15.20//NONSGML v1.0//EN
CALSCALE:GREGORIAN
METHOD:PUBLISH
X-WR-CALNAME:Best CBSE School in Bengaluru | New Cambridge International Public School
X-ORIGINAL-URL:https://ncips.in
X-WR-CALDESC:Events for Best CBSE School in Bengaluru | New Cambridge International Public School
REFRESH-INTERVAL;VALUE=DURATION:PT1H
X-Robots-Tag:noindex
X-PUBLISHED-TTL:PT1H
BEGIN:VTIMEZONE
TZID:UTC
BEGIN:STANDARD
TZOFFSETFROM:+0000
TZOFFSETTO:+0000
TZNAME:UTC
DTSTART:20230101T000000
END:STANDARD
END:VTIMEZONE
BEGIN:VEVENT
DTSTART;VALUE=DATE:20240905
DTEND;VALUE=DATE:20240906
DTSTAMP:20260419T173126
CREATED:20240301T102331Z
LAST-MODIFIED:20240301T102331Z
UID:887-1725494400-1725580799@ncips.in
SUMMARY:Teachers day Celebration
DESCRIPTION:
URL:https://ncips.in/event/teachers-day-celebration/
LOCATION:karnataka
CATEGORIES:Academic Calender
END:VEVENT
BEGIN:VEVENT
DTSTART;VALUE=DATE:20240910
DTEND;VALUE=DATE:20240911
DTSTAMP:20260419T173126
CREATED:20240301T102538Z
LAST-MODIFIED:20240301T102538Z
UID:890-1725926400-1726012799@ncips.in
SUMMARY:Half Yearly Exam from grade 3 to 9 &  Monthly test 4 from grade 1 & 2
DESCRIPTION:
URL:https://ncips.in/event/half-yearly-exam-from-grade-3-to-9-monthly-test-4-from-grade-1-2/
LOCATION:karnataka
CATEGORIES:Academic Calender
END:VEVENT
BEGIN:VEVENT
DTSTART;VALUE=DATE:20240921
DTEND;VALUE=DATE:20240922
DTSTAMP:20260419T173126
CREATED:20240301T103051Z
LAST-MODIFIED:20240301T103051Z
UID:892-1726876800-1726963199@ncips.in
SUMMARY:Sports day
DESCRIPTION:
URL:https://ncips.in/event/sports-day/
LOCATION:karnataka
CATEGORIES:Academic Calender
END:VEVENT
BEGIN:VEVENT
DTSTART;VALUE=DATE:20240928
DTEND;VALUE=DATE:20240929
DTSTAMP:20260419T173126
CREATED:20240301T103147Z
LAST-MODIFIED:20240301T103147Z
UID:894-1727481600-1727567999@ncips.in
SUMMARY:PTM grade 1 to 9
DESCRIPTION:
URL:https://ncips.in/event/ptm-grade-1-to-9-2/
LOCATION:karnataka
CATEGORIES:Academic Calender
END:VEVENT
END:VCALENDAR